BEGIN:VCALENDAR
VERSION:2.0
PRODID:-//Default Installation//NONSGML kigkonsult.se iCalcreator 2.16.12//
METHOD:PUBLISH
X-MS-OLK-FORCEINSPECTOROPEN:TRUE
BEGIN:VEVENT
UID:20260422T190459CEST-9849H1jgzh@Default Installation
DTSTAMP:20260422T170459Z
DESCRIPTION:Contrexx celebrates 10 years of success! Since 10 years Contrex
 x is growing and growing an growing. We had a great time developing one of
  the most secure and easy-to-handle web content management systems. Now it
 s time to celebrate this success and prepare for the next WCMS milestone.
DTSTART:20150404T000000
DTEND:20150404T235900
ORGANIZER:MAILTO:Default Installation <info@mediaheadz.ch>
SUMMARY:Contrexx celebrates 10 years of success!
END:VEVENT
END:VCALENDAR
